BEGIN:VCALENDAR
VERSION:2.0
PRODID:-//wp-events-plugin.com//7.2.3.1//EN
BEGIN:VEVENT
UID:83@sebastianus-buschbell.de
DTSTART;VALUE=DATE:20260307
DTEND;VALUE=DATE:20260308
DTSTAMP:20250917T135237Z
URL:https://sebastianus-buschbell.de/events/jahreshauptversammlung-2/
SUMMARY:Jahreshauptversammlung
DESCRIPTION:Jährliche Jahreshauptversammlung der St. Sebastianus Schützen
 bruderschaft Buschbell 1683 e.V.
CATEGORIES:Vereins intern
LOCATION:Schützenheim\, Kapellenstraße 2\, Frechen\, 50226\, Deutschland
X-APPLE-STRUCTURED-LOCATION;VALUE=URI;X-ADDRESS=Kapellenstraße 2\, Frechen
 \, 50226\, Deutschland;X-APPLE-RADIUS=100;X-TITLE=Schützenheim:geo:0,0
END:VEVENT
END:VCALENDAR