BEGIN:VCALENDAR
VERSION:2.0
PRODID:-//wp-events-plugin.com//7.2.3.1//EN
BEGIN:VEVENT
UID:82@sebastianus-buschbell.de
DTSTART:20260321T150000Z
DTEND:20260321T190000Z
DTSTAMP:20250917T135801Z
URL:https://sebastianus-buschbell.de/events/ostereierschiessen-2/
SUMMARY:Ostereierschießen
DESCRIPTION:\nUnser Jährliches Ostereier Schießen für Groß und Klein st
 eht wieder vor der Tür und wie jedes Jahr freuen wir uns auf gemeinsame s
 chönen Stunden mit Euch. Dieses Jahr haben wir uns ein paar Neuerungen ü
 berlegt.\n\nSo wird es einen Grillstand fürs leibliche Wohl geben und uns
 ere Dart Abteilung wird selbstverständlich auch mit einem kleinen Stand v
 or Ort sein und gerne eure Fragen zum Thema Darts beantworten.\n\n\n\nIhr 
 Freut euch schon? Wir auch! Also kommt gerne zahlreich vorbei habt gemeins
 am Freude mit uns und lernt uns kennen.\n
ATTACH;FMTTYPE=image/jpeg:https://sebastianus-buschbell.de/wp-content/uplo
 ads/2025/03/ostereierschiessen-frechen-buschbell-9661.jpg
CATEGORIES:Sonstige Termine
LOCATION:Schützenheim\, Kapellenstraße 2\, Frechen\, 50226\, Deutschland
X-APPLE-STRUCTURED-LOCATION;VALUE=URI;X-ADDRESS=Kapellenstraße 2\, Frechen
 \, 50226\, Deutschland;X-APPLE-RADIUS=100;X-TITLE=Schützenheim:geo:0,0
END:VEVENT
END:VCALENDAR