BEGIN:VCALENDAR
VERSION:2.0
PRODID:-//wp-events-plugin.com//7.2.3.1//EN
BEGIN:VEVENT
UID:2@sebastianus-buschbell.de
DTSTART:20260725T170000Z
DTEND:20260725T234500Z
DTSTAMP:20250917T144118Z
URL:https://sebastianus-buschbell.de/events/schuetzenfest-buschbell-samsta
 g/
SUMMARY:Schützenfest 2026 - Samstag
DESCRIPTION:Am Samstag den 25.07. werden wir ab 17:00 Uhr das Königsschie
 ßen starten und ab 17:30 Uhr schießen wir den Bürgerkönig aus. Für de
 n Abend\, haben wir eine neue Band engagiert\, die ab 21 Uhr Livemusik spi
 elt. Der Vorverkauf startet in Kürze.\n\nDie Karten könnt Ihr per Email 
 bestellen oder im Buschbeller Getränkeshop\, Aegidiusstraße 1-3 in Frech
 en Buschbell\, erwerben.
ATTACH;FMTTYPE=image/jpeg:https://sebastianus-buschbell.de/wp-content/uplo
 ads/2023/07/schuetzen-buschbell-7143.jpg
CATEGORIES:Schützenfest
LOCATION:Edith-Stein-Schule\, Kirchenkamp 7\, Frechen\, 50226\, Deutschland
X-APPLE-STRUCTURED-LOCATION;VALUE=URI;X-ADDRESS=Kirchenkamp 7\, Frechen\, 5
 0226\, Deutschland;X-APPLE-RADIUS=100;X-TITLE=Edith-Stein-Schule:geo:0,0
END:VEVENT
END:VCALENDAR