BEGIN:VCALENDAR
VERSION:2.0
PRODID:-//wp-events-plugin.com//7.2.3.1//EN
BEGIN:VEVENT
UID:3@sebastianus-buschbell.de
DTSTART:20260726T110000Z
DTEND:20260726T190000Z
DTSTAMP:20250917T144238Z
URL:https://sebastianus-buschbell.de/events/schuetzenfest-buschbell-sonnta
 g/
SUMMARY:Schützenfest 2026 - Sonntag
DESCRIPTION:11 Uhr - Frühschoppen\n15 Uhr - Festzug &amp\; Platzkonzert
ATTACH;FMTTYPE=image/jpeg:https://sebastianus-buschbell.de/wp-content/uplo
 ads/2025/08/Schuetzenfest-Buschbell-25-Sonntag-5.jpg
CATEGORIES:Schützenfest
LOCATION:Edith-Stein-Schule\, Kirchenkamp 7\, Frechen\, 50226\, Deutschland
X-APPLE-STRUCTURED-LOCATION;VALUE=URI;X-ADDRESS=Kirchenkamp 7\, Frechen\, 5
 0226\, Deutschland;X-APPLE-RADIUS=100;X-TITLE=Edith-Stein-Schule:geo:0,0
END:VEVENT
END:VCALENDAR